BEGIN:VCALENDAR
VERSION:2.0
PRODID:-//ExpressionEngine Easy iCalendar plugin//NONSGML v2.0.1//EN
X-WR-TIMEZONE:America/New_York
X-WR-CALNAME:Upcoming Auctions
BEGIN:VEVENT
UID:132734
DTSTAMP:20250606T090000
DTSTART:20250606T090000
DTEND:20250624T180000
SUMMARY:Park Oak Drive Auction in Clemmons
LOCATION:2758 Park Oak Drive\, Clemmons\, NC 27012\, US
DESCRIPTION:AUCTION CONTACT:  Richard Bowles (336-671-9408). Dolls\, Dal
 e Earnhardt\, Gold\, Disney\, Christmas\, Bedroom Sets\, Househol
 d items. PICK-UP: JUNE 26TH\, 12-6PM.
URL:https://www.theswicegoodgroup.com/auctions/detail/bw132734
SEQUENCE:1
END:VEVENT
END:VCALENDAR