BEGIN:VCALENDAR
VERSION:2.0
PRODID:-//ExpressionEngine Easy iCalendar plugin//NONSGML v2.0.1//EN
X-WR-TIMEZONE:America/New_York
X-WR-CALNAME:Upcoming Auctions
BEGIN:VEVENT
UID:141648
DTSTAMP:20250706T120000
DTSTART:20250706T120000
DTEND:20250812T180000
SUMMARY:Land Tek GMS Inc. Liquidation Auction
LOCATION:920 NC Hwy 801 N\, Advance\, NC 27006\, US
DESCRIPTION:Complete liquidation of LAND TEK\, GMS INC lawn care & landsc
 aping business. The owners are retiring. All items well ma
 intained. Trucks\, tractors\, SCAG mowers\, tools\, toolboxes
 \, tractors\, snow plows\, implements\, office items and more. A
 lso a beautiful Massey Harris Pony tractor\, restored and rea
 dy to show your friends. Questions: Auctioneer Becky Tarlto
 n\, 704-213-3421. PUBLIC PREVIEW: AUGUST 2ND\, 11-1PM AND AUGU
 ST 10TH\, 2-4PM. PICKUP: AUGUST 14TH\, 11-6PM. Items not picke
 d up by 6pm will be considered forfeited unless prior arrang
 ements have been made with the auction lead. Our staff does 
 not pack\, lift or load.  We will have a tractor on site for
  loading the large items.  ***Invoices over $2000 must be p
 aid with a certified check made out to The Swicegood Auction
  Group.***
URL:https://www.theswicegoodgroup.com/auctions/detail/bw141648
SEQUENCE:1
END:VEVENT
END:VCALENDAR