BEGIN:VCALENDAR
VERSION:2.0
PRODID:-//ExpressionEngine Easy iCalendar plugin//NONSGML v2.0.1//EN
X-WR-TIMEZONE:America/New_York
X-WR-CALNAME:Upcoming Auctions
BEGIN:VEVENT
UID:142032
DTSTAMP:20250610T083700
DTSTART:20250610T083700
DTEND:20250814T180000
SUMMARY:2019 Fleetwood Bounder Model 36F (39 ft long) Motorhome
LOCATION:{location}
DESCRIPTION:SELLING REGARDLESS OF PRICE IN EXCESS OF $74\,000
URL:https://www.theswicegoodgroup.com/auctions/detail/bw142032
SEQUENCE:1
END:VEVENT
END:VCALENDAR