BEGIN:VCALENDAR
VERSION:2.0
PRODID:-//ExpressionEngine Easy iCalendar plugin//NONSGML v2.0.0//EN
X-WR-TIMEZONE:America/New_York
X-WR-CALNAME:Upcoming Auctions
BEGIN:VEVENT
UID:142276
DTSTAMP:20250703T093000
DTSTART:20250703T093000
DTEND:20250722T180000
SUMMARY:Investment Opportunity - High Point
LOCATION:2507 Suffolk Avenue \, High Point\, NC 27265\, US
DESCRIPTION:Public Preview Sunday\, July 20th from 2-4 PM Contact: Ashton
  Burton 336-909-5138 ashtonburtonre@gmail.com or Lewis Swice
 good 336-970-7944
URL:https://www.theswicegoodgroup.com/auctions/detail/bw142276
SEQUENCE:1
END:VEVENT
END:VCALENDAR