BEGIN:VCALENDAR
VERSION:2.0
PRODID:-//ExpressionEngine Easy iCalendar plugin//NONSGML v2.0.1//EN
X-WR-TIMEZONE:America/New_York
X-WR-CALNAME:Upcoming Auctions
BEGIN:VEVENT
UID:142796
DTSTAMP:20250728T130000
DTSTART:20250728T130000
DTEND:20250814T180000
SUMMARY:August '25 Consignment Auction
LOCATION:279 N Main St\, Mocksville\, NC 27028\, US
DESCRIPTION:Contact: Ron Helderman\, 336-816-5453. Don’t miss this exci
 ting auction packed with quality items and unique finds! Hig
 hlights include a 2013 Nissan Rogue and a sporty 2008 Infini
 ti G35\, both ready for the road. Firearm enthusiasts will ap
 preciate a solid selection from top names like Colt\, Marlin\,
  PSA\, and Smith & Wesson\, along with a great assortment of a
 mmo. Collectors\, take note—there’s a treasure trove of v
 intage and collectible toys\, coins\, and vinyl albums\, plus c
 harming Christmas décor\, home accents\, stoneware\, cast iron
 \, and pottery. Whether you’re furnishing a home or adding 
 to your collection\, the furniture and variety of quality goo
 ds in this auction offer something for everyone. Bid now and
  discover your next great find! ALL ITEMS LOCATED IN UPPER G
 ALLERY
URL:https://www.theswicegoodgroup.com/auctions/detail/bw142796
SEQUENCE:1
END:VEVENT
END:VCALENDAR