BEGIN:VCALENDAR
VERSION:2.0
PRODID:-//ExpressionEngine Easy iCalendar plugin//NONSGML v2.0.0//EN
X-WR-TIMEZONE:America/New_York
X-WR-CALNAME:Upcoming Auctions
BEGIN:VEVENT
UID:143067
DTSTAMP:20250626T210000
DTSTART:20250626T210000
DTEND:20250731T180000
SUMMARY:Golf Course Living at Pudding Ridge
LOCATION:217 Cornwallis Drive\, Mocksville\, NC 27028\, US
DESCRIPTION:Contact: Elizabeth Swicegood\, 336-909-2584\, lizswicegood@gma
 il.com
URL:https://www.theswicegoodgroup.com/auctions/detail/bw143067
SEQUENCE:1
END:VEVENT
END:VCALENDAR