BEGIN:VCALENDAR
VERSION:2.0
PRODID:-//ExpressionEngine Easy iCalendar plugin//NONSGML v2.0.1//EN
X-WR-TIMEZONE:America/New_York
X-WR-CALNAME:Upcoming Auctions
BEGIN:VEVENT
UID:143100
DTSTAMP:20250714T190000
DTSTART:20250714T190000
DTEND:20250805T180000
SUMMARY:Dobson Downsizer
LOCATION:602 S Main Street\, Dobson\, NC 27017\, US
DESCRIPTION:Contact: Lewis Swicegood\, 336-970-7944. PUBLIC PREVIEW: JULY
  31ST\, 4-6PM. PICK-UP: DATE CHANGED DUE TO WEATHER! AUGUST 1
 1TH 2-7PM  
URL:https://www.theswicegoodgroup.com/auctions/detail/bw143100
SEQUENCE:1
END:VEVENT
END:VCALENDAR