BEGIN:VCALENDAR
VERSION:2.0
PRODID:-//ExpressionEngine Easy iCalendar plugin//NONSGML v2.0.0//EN
X-WR-TIMEZONE:America/New_York
X-WR-CALNAME:Upcoming Auctions
BEGIN:VEVENT
UID:144301
DTSTAMP:20250714T103000
DTSTART:20250714T103000
DTEND:20250813T180000
SUMMARY:Davie County Industrial Land
LOCATION:000 Industrial Blvd\, Mocksville\, NC 27028\, US
DESCRIPTION:Contact: Ashton Burton 336-909-5138 ashtonburtonre@gmail.com
  
URL:https://www.theswicegoodgroup.com/auctions/detail/bw144301
SEQUENCE:1
END:VEVENT
END:VCALENDAR