BEGIN:VCALENDAR
VERSION:2.0
PRODID:-//ExpressionEngine Easy iCalendar plugin//NONSGML v2.0.1//EN
X-WR-TIMEZONE:America/New_York
X-WR-CALNAME:Upcoming Auctions
BEGIN:VEVENT
UID:144589
DTSTAMP:20250718T130000
DTSTART:20250718T130000
DTEND:20250813T180000
SUMMARY:Executive Cleaning Service
LOCATION:920 NC Hwy 801 N\, Advance\, NC 27006\, US
DESCRIPTION:The owner is retiring.  This is a huge opportunity to purch
 ase items in very good to excellent condition.  2012 Nissa
 n NV 1500 Van\, Commercial hepa vacuum cleaners: ProForce 1
 200XP\, ProTeam ProGen 15\, Windsor Sensor S15\, Brute 44 gallo
 n trash can with caddies\, mop buckets\, Rubbermaid trash cans
 \, utility carts\, soap dispensers\, paper towels\, toilet paper
 \, floor scrubber\, cleaning supplies\, wet/dry vacuums\, scrub
  pads\, time clock\, soap dispensers\, turbo dryers\, floor pol
 isher. PREVIEW: AUGUST 2nd\, 11-1pm\, AUGUST 10th\, 2-4pm PICKU
 P\; AUGUST 14th\, 11-6pm 920 NC Hwy 801 N\, Advance\, NC 27006. 
  
URL:https://www.theswicegoodgroup.com/auctions/detail/bw144589
SEQUENCE:1
END:VEVENT
END:VCALENDAR