BEGIN:VCALENDAR
VERSION:2.0
PRODID:-//ExpressionEngine Easy iCalendar plugin//NONSGML v2.0.0//EN
X-WR-TIMEZONE:America/New_York
X-WR-CALNAME:Upcoming Auctions
BEGIN:VEVENT
UID:144623
DTSTAMP:20250716T133000
DTSTART:20250716T133000
DTEND:20250904T180000
SUMMARY:Carefree Townhome Living - Mocksville\, NC
LOCATION:111 S Wentworth Drive \, Mocksville\, NC 27028\, US
DESCRIPTION:Contact: Elizabeth Swicegood 336-909-2584 lizswicegood@gmail
 .com. 111 S. Wentworth Drive\, Mocksville\, NC 27028. Public P
 review: Sept. 2nd\, 4-6pm.
URL:https://www.theswicegoodgroup.com/auctions/detail/bw144623
SEQUENCE:1
END:VEVENT
END:VCALENDAR