BEGIN:VCALENDAR
VERSION:2.0
PRODID:-//ExpressionEngine Easy iCalendar plugin//NONSGML v2.0.1//EN
X-WR-TIMEZONE:America/New_York
X-WR-CALNAME:Upcoming Auctions
BEGIN:VEVENT
UID:144748
DTSTAMP:20250727T110000
DTSTART:20250727T110000
DTEND:20250826T180000
SUMMARY:Cornatzer Road Auction
LOCATION:599 Cornatzer Road\, Mocksville\, NC 27028\, US
DESCRIPTION:Contact: Becky Tarlton\, 704-213-3421. 599 Cornatzer Road\, Mo
 cksville\, NC 27028. PUBLIC PREVIEW: AUGUST 23RD\, 11AM-1PM. P
 ICK-UP: AUGUST 28TH\, 12-6PM.  
URL:https://www.theswicegoodgroup.com/auctions/detail/bw144748
SEQUENCE:1
END:VEVENT
END:VCALENDAR