BEGIN:VCALENDAR
VERSION:2.0
PRODID:-//ExpressionEngine Easy iCalendar plugin//NONSGML v2.0.1//EN
X-WR-TIMEZONE:America/New_York
X-WR-CALNAME:Upcoming Auctions
BEGIN:VEVENT
UID:144837
DTSTAMP:20250730T100000
DTSTART:20250730T100000
DTEND:20250820T180000
SUMMARY:Peace Haven Liquidation
LOCATION:436 S Peace Haven Road\, Winston Salem\, NC 27103\, US
DESCRIPTION:Contact: Ron Helderman\, 336-816-5453. PUBLIC PREVIEW: AUG. 1
 8TH\, 4-6PM. PICK-UP: AUG. 22ND\, 12-4PM.  
URL:https://www.theswicegoodgroup.com/auctions/detail/bw144837
SEQUENCE:1
END:VEVENT
END:VCALENDAR