BEGIN:VCALENDAR
VERSION:2.0
PRODID:-//ExpressionEngine Easy iCalendar plugin//NONSGML v2.0.1//EN
X-WR-TIMEZONE:America/New_York
X-WR-CALNAME:Upcoming Auctions
BEGIN:VEVENT
UID:144838
DTSTAMP:20250804T100000
DTSTART:20250804T100000
DTEND:20250821T180000
SUMMARY:Wentworth Drive Auction
LOCATION:111 S Wentworth Dr\, Mocksville\, NC 27028\, US
DESCRIPTION:Contact: Ron Helderman\, 336-816-5453.   111 S Wentworth Dr
 ive\, Mocksville. PUBLIC PREVIEW DATES: AUG. 12TH & 19TH\, 4-6
 PM. PICK-UP: AUG. 25TH\, 12-4PM.  
URL:https://www.theswicegoodgroup.com/auctions/detail/bw144838
SEQUENCE:1
END:VEVENT
END:VCALENDAR