BEGIN:VCALENDAR
VERSION:2.0
PRODID:-//ExpressionEngine Easy iCalendar plugin//NONSGML v2.0.0//EN
X-WR-TIMEZONE:America/Indiana/Indianapolis
X-WR-CALNAME:Upcoming Auctions
BEGIN:VEVENT
UID:149539
DTSTAMP:20251031T120000
DTSTART:20251031T120000
DTEND:20251120T180000
SUMMARY:Collectibles Estate Sale In Lewisville
LOCATION:7270 Franklin Rd.\, Lewisville\, NC 27023\, US
DESCRIPTION:Contact Richard Bowles 336-671-9408 or Richard@ready2bid.co
 m. PUBLIC PREVIEW: NOV. 17TH\, 4-6PM. PICK-UP: NOV. 24TH\, 12-
 6PM.
URL:https://www.theswicegoodgroup.com/auctions/detail/bw149539
SEQUENCE:1
END:VEVENT
END:VCALENDAR