BEGIN:VCALENDAR
VERSION:2.0
PRODID:-//ExpressionEngine Easy iCalendar plugin//NONSGML v2.0.0//EN
X-WR-TIMEZONE:America/New_York
X-WR-CALNAME:Upcoming Auctions
BEGIN:VEVENT
UID:149982
DTSTAMP:20251102T110000
DTSTART:20251102T110000
DTEND:20251119T180000
SUMMARY:Estate of the Late Betty Stokes
LOCATION:3245 Arnold Rd\, Hamptonville\, NC 27020\, US
DESCRIPTION:Preview Date: November 17th\, 2025 from 4PM to 6PM. Aucti
 on Ending Date: November 19th\, 2025 beginning at 6 PM. Pic
 k-Up Date: November 21st\, 2025 from 1PM to 7PM. If you are 
 unable to make the pickup date\, you must contact Auctioneer 
 Zach Johnson via phone\, text or email to set up alternate pl
 ans PRIOR to bidding. Contact: Zach Johnson @ 828-408-1651
URL:https://www.theswicegoodgroup.com/auctions/detail/bw149982
SEQUENCE:1
END:VEVENT
END:VCALENDAR