BEGIN:VCALENDAR
VERSION:2.0
PRODID:-//ExpressionEngine Easy iCalendar plugin//NONSGML v2.0.0//EN
X-WR-TIMEZONE:America/New_York
X-WR-CALNAME:Upcoming Auctions
BEGIN:VEVENT
UID:152952
DTSTAMP:20251223T120000
DTSTART:20251223T120000
DTEND:20260113T180000
SUMMARY:January ‘26 Consignment Auction
LOCATION:279 N Main St\, Mocksville\, NC 27028\, US
DESCRIPTION:Contact: Ron Helderman 336-816-5453. PUBLIC PREVIEW: JANUARY
  12TH\, 4-6PM. PICK-UP: JANUARY 15TH\, 10AM-4PM.
URL:https://www.theswicegoodgroup.com/auctions/detail/bw152952
SEQUENCE:1
END:VEVENT
END:VCALENDAR