BEGIN:VCALENDAR
VERSION:2.0
PRODID:-//ExpressionEngine Easy iCalendar plugin//NONSGML v2.0.1//EN
X-WR-TIMEZONE:America/New_York
X-WR-CALNAME:Upcoming Auctions
BEGIN:VEVENT
UID:153003
DTSTAMP:20251210T080000
DTSTART:20251210T080000
DTEND:20260106T180000
SUMMARY:Heads or Tails Coin Collection
LOCATION:279 N. Main Street\, Mocksville\, NC 27028\, US
DESCRIPTION:Silver Certificates\, Morgan & Peace dollars\, collector coin 
 sets\, state quarter sets.  Rare and/or uncirculated coins. 
  Start a collection or add to yours.  Happy bidding. Quest
 ions: Auctioneer Becky Tarlton\, 704-213-3421. REMEMBER WE OF
 FER SHIPPING! PICK-UP: JANUARY 8TH\, 2-6PM. ITEMS NOT PICKED 
 UP BY 6PM WILL BE CONSIDERED FORFEITED UNLESS PRIOR ARRANGEM
 ENTS HAVE BEEN MADE WITH THE AUCTION LEAD\, 704-213-3421(TEXT
 )
URL:https://www.theswicegoodgroup.com/auctions/detail/bw153003
SEQUENCE:1
END:VEVENT
END:VCALENDAR