BEGIN:VCALENDAR
VERSION:2.0
PRODID:-//ExpressionEngine Easy iCalendar plugin//NONSGML v2.0.0//EN
X-WR-TIMEZONE:America/New_York
X-WR-CALNAME:Upcoming Auctions
BEGIN:VEVENT
UID:159149
DTSTAMP:20260421T120000
DTSTART:20260421T120000
DTEND:20260520T180000
SUMMARY:Firearms and Ammunition
LOCATION:279 N Main St\, Mocksville\, NC 27012\, US
DESCRIPTION:Contact: Ron Helderman 336-816-5453. PUBLIC PREVIEW: MAY 19T
 H\, 4-6PM. PICK-UP: MAY 21ST & 22ND\, 10AM-2PM.
URL:https://www.theswicegoodgroup.com/auctions/detail/bw159149
SEQUENCE:1
END:VEVENT
END:VCALENDAR