BEGIN:VCALENDAR
VERSION:2.0
PRODID:-//ExpressionEngine Easy iCalendar plugin//NONSGML v2.0.0//EN
X-WR-TIMEZONE:America/New_York
X-WR-CALNAME:Upcoming Auctions
BEGIN:VEVENT
UID:160493
DTSTAMP:20260420T120000
DTSTART:20260420T120000
DTEND:20260512T180000
SUMMARY:Drop Top In A Benz
LOCATION:279 N. Main Street\, Mocksville\, NC 27028\, US
DESCRIPTION:Contact: Becky Tarlton\, 704-213-3421. 2005 Mercedes Benz SL5
 00 2 door luxury hardtop convertible Can be viewed at 279 No
 rth Main Street\, Mocksville\, NC.
URL:https://www.theswicegoodgroup.com/auctions/detail/bw160493
SEQUENCE:1
END:VEVENT
END:VCALENDAR